BEGIN:VCALENDAR
VERSION:2.0
PRODID:-//Opportunities Inc. - ECPv6.15.19//NONSGML v1.0//EN
CALSCALE:GREGORIAN
METHOD:PUBLISH
X-ORIGINAL-URL:https://www.oppinc.org
X-WR-CALDESC:Events for Opportunities Inc.
REFRESH-INTERVAL;VALUE=DURATION:PT1H
X-Robots-Tag:noindex
X-PUBLISHED-TTL:PT1H
BEGIN:VTIMEZONE
TZID:America/Chicago
BEGIN:DAYLIGHT
TZOFFSETFROM:-0600
TZOFFSETTO:-0500
TZNAME:CDT
DTSTART:20250309T080000
END:DAYLIGHT
BEGIN:STANDARD
TZOFFSETFROM:-0500
TZOFFSETTO:-0600
TZNAME:CST
DTSTART:20251102T070000
END:STANDARD
BEGIN:DAYLIGHT
TZOFFSETFROM:-0600
TZOFFSETTO:-0500
TZNAME:CDT
DTSTART:20260308T080000
END:DAYLIGHT
BEGIN:STANDARD
TZOFFSETFROM:-0500
TZOFFSETTO:-0600
TZNAME:CST
DTSTART:20261101T070000
END:STANDARD
BEGIN:DAYLIGHT
TZOFFSETFROM:-0600
TZOFFSETTO:-0500
TZNAME:CDT
DTSTART:20270314T080000
END:DAYLIGHT
BEGIN:STANDARD
TZOFFSETFROM:-0500
TZOFFSETTO:-0600
TZNAME:CST
DTSTART:20271107T070000
END:STANDARD
END:VTIMEZONE
BEGIN:VEVENT
DTSTART;TZID=America/Chicago:20260329T160000
DTEND;TZID=America/Chicago:20260329T220000
DTSTAMP:20260422T113800
CREATED:20260116T211334Z
LAST-MODIFIED:20260309T200445Z
UID:7626-1774800000-1774821600@www.oppinc.org
SUMMARY:2026 Sunday Funday
DESCRIPTION:Get your tickets NOW!5th Annual Sunday Funday\nMarch 29th @ 4:00\nat Crossties in downtown Texarkana\nwith BBQ Naaman’s Championship BBQ\nBarbeque\, Brews\, and Baggo!! \n$100 per Ticket \nJoin us for our 5th annual Sunday Funday featuring a DJ and barbecue. A baggo competition will also be taking place if you choose to be a part of the bracket! All proceeds benefit children and adults with disabilities in our community. \nGet your tickets NOW!Be a Sponsor!Make a lasting impact in our community while gaining valuable exposure for your organization at our signature “Sunday Funday” event. Your sponsorship will help transform lives by supporting our mission to provide job training\, employment services & education to individuals with disabilities. In return\, you’ll receive prominent recognition throughout the event\, mention on our website as well as social media\, and the opportunity to connect with other community leaders while demonstrating your commitment. \nThank you. \nBe a Sponsor (online sign-up)
URL:https://www.oppinc.org/event/sunday-funday/
LOCATION:Crossties\, 324 E Broad Street\, Texarkana\, AR\, 71854\, United States
ATTACH;FMTTYPE=image/jpeg:https://www.oppinc.org/wp-content/uploads/2026/01/Website-Event-Banner-3.jpg
END:VEVENT
END:VCALENDAR