BEGIN:VCALENDAR
VERSION:2.0
PRODID:-//Opportunities Inc. - ECPv6.15.19//NONSGML v1.0//EN
CALSCALE:GREGORIAN
METHOD:PUBLISH
X-ORIGINAL-URL:https://www.oppinc.org
X-WR-CALDESC:Events for Opportunities Inc.
REFRESH-INTERVAL;VALUE=DURATION:PT1H
X-Robots-Tag:noindex
X-PUBLISHED-TTL:PT1H
BEGIN:VTIMEZONE
TZID:America/Chicago
BEGIN:DAYLIGHT
TZOFFSETFROM:-0600
TZOFFSETTO:-0500
TZNAME:CDT
DTSTART:20250309T080000
END:DAYLIGHT
BEGIN:STANDARD
TZOFFSETFROM:-0500
TZOFFSETTO:-0600
TZNAME:CST
DTSTART:20251102T070000
END:STANDARD
BEGIN:DAYLIGHT
TZOFFSETFROM:-0600
TZOFFSETTO:-0500
TZNAME:CDT
DTSTART:20260308T080000
END:DAYLIGHT
BEGIN:STANDARD
TZOFFSETFROM:-0500
TZOFFSETTO:-0600
TZNAME:CST
DTSTART:20261101T070000
END:STANDARD
BEGIN:DAYLIGHT
TZOFFSETFROM:-0600
TZOFFSETTO:-0500
TZNAME:CDT
DTSTART:20270314T080000
END:DAYLIGHT
BEGIN:STANDARD
TZOFFSETFROM:-0500
TZOFFSETTO:-0600
TZNAME:CST
DTSTART:20271107T070000
END:STANDARD
END:VTIMEZONE
BEGIN:VEVENT
DTSTART;TZID=America/Chicago:20260914T100000
DTEND;TZID=America/Chicago:20260914T180000
DTSTAMP:20260422T172418
CREATED:20250513T153653Z
LAST-MODIFIED:20260401T171845Z
UID:7372-1789380000-1789408800@www.oppinc.org
SUMMARY:2026 Golf Tournament
DESCRIPTION:Save the Date!37th Annual Invitational Golf TournamentSupporting Individuals with Disabilities\nDate: Monday\, September 14th\, 2026 10 am – 6 pm at the Texarkana Country Club\nRegistration Coming Soon!Tournament History:\nOver 37 years ago\, Senator David Pryor\, who has been a friend to many\, including Opportunities\, suggested that we do a “little” golf tournament to benefit the children and adults served by this organization. Since that time\, over $2.5 million has been raised from this event! \nYour sponsorship makes a world of difference to the children and adults served by Opportunities\, Inc.! \nDavid Pryor Award:\nThe David Pryor Award is given annually to the volunteer who exemplifies the spirit of commitment and support to Opportunities expressed by Senator David Pryor over the years. \nPast recipients include:\nDavid Williams 1996\nMo Orr 1997\nTom Holcombe 1997\nB. Smith 1998\nBarbara Cole 1999\nTruman Arnold 2000\nMike Craven 2001\nGreg Arnold 2002\nAllen Brown 2003\nCary Patterson 2004\nMike Kennedy 2005 \nArt Romero 2006\nJerry Martin 2007\nJudy Morgan 2008\nBill Rogers 2009\nLance Lee 2010\nTodd Shores 2011\nJoe Crane 2012\nBuddy McCulloch 2013\nGayle Wright 2014\nChad Dodson 2015\nJoan Carter 2016 \nTrish Reed 2017\nJoe Nichols 2018\nSenator Jimmy Hickey 2019\nJason Ross 2020\nClay Roberts 2021\nJack Roberts 2022\nSonja Hubbard 2023\nKory Crews 2024\n2025\n2026 This could be you!
URL:https://www.oppinc.org/event/golf-tournament/
LOCATION:Texarkana Country Club\, 1 Country Club Ln\, Texarkana\, AR\, 71854\, United States
ATTACH;FMTTYPE=image/jpeg:https://www.oppinc.org/wp-content/uploads/2025/05/Website-banner-Golf-tournament-2026.jpg
END:VEVENT
END:VCALENDAR